BEGIN:VCALENDAR
VERSION:2.0
PRODID:-//Daito Ryu - ECPv6.14.2//NONSGML v1.0//EN
CALSCALE:GREGORIAN
METHOD:PUBLISH
X-WR-CALNAME:Daito Ryu
X-ORIGINAL-URL:https://daitoryu.cz
X-WR-CALDESC:Akce na Daito Ryu
REFRESH-INTERVAL;VALUE=DURATION:PT1H
X-Robots-Tag:noindex
X-PUBLISHED-TTL:PT1H
BEGIN:VTIMEZONE
TZID:UTC
BEGIN:STANDARD
TZOFFSETFROM:+0000
TZOFFSETTO:+0000
TZNAME:UTC
DTSTART:20260101T000000
END:STANDARD
END:VTIMEZONE
BEGIN:VEVENT
DTSTART;VALUE=DATE:20260502
DTEND;VALUE=DATE:20260504
DTSTAMP:20260420T134418
CREATED:20260326T105801Z
LAST-MODIFIED:20260326T113444Z
UID:21950-1777680000-1777852799@daitoryu.cz
SUMMARY:Český pohár Nový Bydžov – kategorie U14\, U16 a U18 - 2. a 3. 5. 2026
DESCRIPTION:Během víkendu 2. 5. a 3. 5.  2026 se uskuteční judo závody Českého poháru v Novém Bydžově určené pro kategorie U14\, U16 a U18 – chlapce i dívky s účastí klubu. \nNa tuto akci byli nominováni pouze vybraní závodníci\, kteří dlouhodobě vykazují vynikající výsledky\, nasazení v tréninku a reprezentují klub na vysoké úrovni. Děkujeme. \n\n\n\nČeský pohár Nový Bydžov – kategorie U14\, U16 a U18 \n\n\n\nStartující ročníky: \nU14 – ročníky nyrození 2013 – 2014\nU16 – ročníky narození 2011–2012\nU18 – ročníky narození 2009–2010 \n\n\n\nMísto konání:\nZimní stadion\, Dukelská třída\, 504 01 Nový Bydžov \nHarmonogram závodů – sobota 2. 5. 2026: \n9:00–9:30 – prezentace a vážení kategorie U14 a U18\n(bez možnosti změny nahlášené váhové kategorie) \n10:00 – zahájení soutěže U14 \npoté zahájení 18 \nneděle 3.5.2026 \n9:00–9:30 – prezentace a vážení kategorie u16\n(bez možnosti změny nahlášené váhové kategorie) \n10:00 – zahájení soutěže kategorie U16 \nrozpis soutěže  Český pohár Nový Bydžov 2026
URL:https://daitoryu.cz/zavod/cesky-pohar-novy-bydzov-kategorie-u14-u16-a-u18-2-a-3-5-2026/
CATEGORIES:Závody
END:VEVENT
END:VCALENDAR