BEGIN:VCALENDAR
VERSION:2.0
PRODID:-//Daito Ryu - ECPv6.14.2//NONSGML v1.0//EN
CALSCALE:GREGORIAN
METHOD:PUBLISH
X-WR-CALNAME:Daito Ryu
X-ORIGINAL-URL:https://daitoryu.cz
X-WR-CALDESC:Akce na Daito Ryu
REFRESH-INTERVAL;VALUE=DURATION:PT1H
X-Robots-Tag:noindex
X-PUBLISHED-TTL:PT1H
BEGIN:VTIMEZONE
TZID:UTC
BEGIN:STANDARD
TZOFFSETFROM:+0000
TZOFFSETTO:+0000
TZNAME:UTC
DTSTART:20260101T000000
END:STANDARD
END:VTIMEZONE
BEGIN:VEVENT
DTSTART;VALUE=DATE:20260816
DTEND;VALUE=DATE:20260823
DTSTAMP:20260420T194051
CREATED:20260326T115856Z
LAST-MODIFIED:20260326T115856Z
UID:21978-1786838400-1787443199@daitoryu.cz
SUMMARY:SPS soustředění Teplice 16. 8. – 22. 8. 2026
DESCRIPTION:16 srpna – 22. 8. srpna\n\n\n\nNominace závodníků pro každou akci SPS bude odeslána svazem vybraným závodníkům. \nDěkujeme za potvrzení účasti
URL:https://daitoryu.cz/zavod/sps-soustredeni-teplice-16-8-22-8-2026/
END:VEVENT
END:VCALENDAR