BEGIN:VCALENDAR
VERSION:2.0
PRODID:-//Daito Ryu - ECPv6.14.2//NONSGML v1.0//EN
CALSCALE:GREGORIAN
METHOD:PUBLISH
X-ORIGINAL-URL:https://daitoryu.cz
X-WR-CALDESC:Akce na Daito Ryu
REFRESH-INTERVAL;VALUE=DURATION:PT1H
X-Robots-Tag:noindex
X-PUBLISHED-TTL:PT1H
BEGIN:VTIMEZONE
TZID:UTC
BEGIN:STANDARD
TZOFFSETFROM:+0000
TZOFFSETTO:+0000
TZNAME:UTC
DTSTART:20260101T000000
END:STANDARD
END:VTIMEZONE
BEGIN:VEVENT
DTSTART;TZID=UTC:20260124T080000
DTEND;TZID=UTC:20260124T170000
DTSTAMP:20260421T001728
CREATED:20260108T131157Z
LAST-MODIFIED:20260109T080249Z
UID:21864-1769241600-1769274000@daitoryu.cz
SUMMARY:Pohár Nadějí 2026 - Prostějov 24.1.2026
DESCRIPTION:pro nominované závodníky \nRádi bychom vás informovali o blížících se závodech Pohár nadějí 2026\, které se uskuteční v sobotu 24. ledna 2026 v Prostějově. Soutěž je určena pro kategorie junioři\, juniorky\, muži\, ženy\, dorostenci a dorostenky U18. \nTento bodovací turnaj patří mezi nominační soutěže na větší mezinárodní závody.\nJe umožněn start závodníků U16 v kategorii U18\, podmínkou je platná sportovní lékařská prohlídka. \n\n🥋 Nominovaní závodníci\n(bude doplněno) \n\n⏱ Časový harmonogram\nPátek 23. 1. 2026 – prezentace\n\n16:50 – odjezd klubové dopravy od Ideonu směr Prostějov\n19:00–20:00 – prezentace a vážení U18\, muži a ženy\n(v místě konání závodů – Prostějov\, možnost změny váhy)\nPo vážení přesun na ubytování\, společná večeře\nV sobotu ráno zajištěna snídaně\n\n\nSobota 24. 1. 2026 – závody \nMísto konání:\nOlympijská 4228/4\, 796 00 Prostějov \n\n9:00 – slavnostní zahájení turnaje (U18)\nKonec soutěže: ne dříve než ve 13:00 hodin\n12:00–12:30 – vážení U21\, muži a ženy\n(bez možnosti změny váhy)\n\nrozpis k závodům 
URL:https://daitoryu.cz/zavod/pohar-nadeji-2026-prostejov-24-1-2026/
END:VEVENT
BEGIN:VEVENT
DTSTART;VALUE=DATE:20260131
DTEND;VALUE=DATE:20260201
DTSTAMP:20260421T001728
CREATED:20260108T131043Z
LAST-MODIFIED:20260109T081217Z
UID:21862-1769817600-1769903999@daitoryu.cz
SUMMARY:VC Chlumce nad Cidlinou - 31. ledna 2026
DESCRIPTION:Zveme vás na oblíbené závody v Chlumci nad Cidlinou\, které jsou skvělou příležitostí nejen pro zkušené závodníky\, ale i pro ty\, kteří si chtějí poprvé vyzkoušet soutěžní atmosféru. Doufáme ve velkou účast a věříme\, že si všichni odnesou nejen cenné zkušenosti\, ale i radost z juda! \n📅 ZÁVODY  \n🗓 Sobota 31. Ledna 2026 \nKATEGORIE \n✅ Mláďata U10 – ročníky 2017-2018\n✅ Mladší žáci a žákyně U12 – ročníky 2015–2016\n✅ Starší žáci a žákyně U14 – ročníky 2013–2014\n✅ Mladší dorostenci a dorostenky U16 – ročníky 2011–2012 \n🔹 Nutná podmínka účasti: Bíložlutý pásek 6/5a minimálně půlroční členství v klubu. \nKDE? \n🏟 Slavíčkova hala\n📍 Sokolská 795\, 503 51 Chlumec nad Cidlinou \nVÁŽENÍ A ZAHÁJENÍ SOUTĚŽE \n🕗 8:00 – 9:00 → mláďata U10 a mladší žactvo U12\n🏆 10:00 → zahájení soutěže \n🕛 11:30 – 12:00 → starší žactvo U14 a mladší dorost U16\n🏆 Poté zahájení soutěže \nSTARTOVNÉ \n💵 350 Kč / závodník – rodiče hradí na místě \n✍️ PŘIHLÁŠKY \n📩 Nejpozději do pátku 23. 2025 na e-mail: daitoryupardubice@seznam.cz\n👟 Nezapomeňte na přezůvky! \nV případě odhlášení po datu 28. 1. se hradí startovné v plné výši a propadá pořadateli Chlumci. \nDOPRAVA – Vlastní. \nrozpis k závodům
URL:https://daitoryu.cz/zavod/vc-chlumce-nad-cidlinou-31-ledna-2026/
CATEGORIES:Závody
END:VEVENT
BEGIN:VEVENT
DTSTART;VALUE=DATE:20260206
DTEND;VALUE=DATE:20260209
DTSTAMP:20260421T001728
CREATED:20260204T082152Z
LAST-MODIFIED:20260204T082925Z
UID:21880-1770336000-1770595199@daitoryu.cz
SUMMARY:SPS soustředění Teplice 6. - 8. února 2026
DESCRIPTION:Nominace závodníků pro každou akci SPS bude odeslána svazem vybraným závodníkům. \nDěkujeme za potvrzení účasti
URL:https://daitoryu.cz/zavod/sps-soustredeni-teplice-6-8-unora-2026/
LOCATION:Teplice\, U PANORAMY 2959\, Teplice\, Ústecký\, 41501\, Czech Republic
CATEGORIES:Závody
END:VEVENT
BEGIN:VEVENT
DTSTART;TZID=UTC:20260228T080000
DTEND;TZID=UTC:20260228T170000
DTSTAMP:20260421T001728
CREATED:20260108T130058Z
LAST-MODIFIED:20260109T080648Z
UID:21860-1772265600-1772298000@daitoryu.cz
SUMMARY:Mistrovství ČR dorostu U18 dne 28.2. 2026
DESCRIPTION:pouze pro nominované z U18 \nrozpis závodů
URL:https://daitoryu.cz/zavod/mistrovstvi-cr-dorostu-u18-dne-28-2-2026/
CATEGORIES:Závody
END:VEVENT
BEGIN:VEVENT
DTSTART;VALUE=DATE:20260307
DTEND;VALUE=DATE:20260308
DTSTAMP:20260421T001728
CREATED:20260108T130012Z
LAST-MODIFIED:20260109T081141Z
UID:21858-1772841600-1772927999@daitoryu.cz
SUMMARY:Závody VC Hradce Králové 7.3. 2026
DESCRIPTION:Určeno pro všechny kategorie U12 – U18 \nVysoce oblíbené závodní dopoledne nedaleko v HK \nrozpis závodů
URL:https://daitoryu.cz/zavod/zavody-vc-hradce-kralove-7-3-2026/
CATEGORIES:Závody
END:VEVENT
BEGIN:VEVENT
DTSTART;VALUE=DATE:20260313
DTEND;VALUE=DATE:20260316
DTSTAMP:20260421T001728
CREATED:20260204T082746Z
LAST-MODIFIED:20260204T082746Z
UID:21882-1773360000-1773619199@daitoryu.cz
SUMMARY:SPS soustředění v Teplicích 13. - 15. 3. 2026
DESCRIPTION:Nominace závodníků pro každou akci SPS bude odeslána svazem vybraným závodníkům. \nDěkujeme za potvrzení účasti
URL:https://daitoryu.cz/zavod/sps-soustredeni-v-teplicich-13-15-3-2026/
LOCATION:Teplice\, U PANORAMY 2959\, Teplice\, Ústecký\, 41501\, Czech Republic
CATEGORIES:Závody
END:VEVENT
BEGIN:VEVENT
DTSTART;TZID=UTC:20260321T080000
DTEND;TZID=UTC:20260322T170000
DTSTAMP:20260421T001728
CREATED:20260108T125908Z
LAST-MODIFIED:20260109T080559Z
UID:21856-1774080000-1774198800@daitoryu.cz
SUMMARY:Český pohár - JUDO OPEN OSTRAVA 21. - 22. 3. 2026
DESCRIPTION:pro širší nominaci vybraných závodníků \nrozpis zde
URL:https://daitoryu.cz/zavod/cesky-pohar-judo-open-ostrava-21-22-3-2026/
CATEGORIES:Závody
END:VEVENT
BEGIN:VEVENT
DTSTART;VALUE=DATE:20260411
DTEND;VALUE=DATE:20260412
DTSTAMP:20260421T001728
CREATED:20260326T105424Z
LAST-MODIFIED:20260326T105424Z
UID:21948-1775865600-1775951999@daitoryu.cz
SUMMARY:Velká cena České Skalice - 11. 4. 2026
DESCRIPTION:Velká cena České Skalice\n📅 Termín: sobota 11. 4. 2026\n📍 Místo: Sportovní hala\, Sportovní 38\, Česká Skalice \nZávody jsou určeny pro kategorie:\nU10\, U12\, U14 a U16 (mláďata až mladší dorost) \nročníky narození (2018 – 2011) \nZákladní informace: \n\nvážení U10 a U12: 8:00–9:00\nzahájení soutěže: od 10:00\nvážení U14 a U16: 11:00–11:30\n\nstartovné: 350 Kč (hradí se na místě)\nzávodníci startují na vlastní náklady\n\n\n\n\nPřihlášení: \nProsíme o potvrzení účasti:\n👉 ideálně do 4. 4. 2026
URL:https://daitoryu.cz/zavod/velka-cena-ceske-skalice-11-4-2026/
CATEGORIES:Závody
END:VEVENT
BEGIN:VEVENT
DTSTART;VALUE=DATE:20260417
DTEND;VALUE=DATE:20260420
DTSTAMP:20260421T001728
CREATED:20260204T083023Z
LAST-MODIFIED:20260204T083119Z
UID:21884-1776384000-1776643199@daitoryu.cz
SUMMARY:SPS soustředění Teplice 17. 4. - 19. 4. 2026
DESCRIPTION:Nominace závodníků pro každou akci SPS bude odeslána svazem vybraným závodníkům. \nDěkujeme za potvrzení účasti
URL:https://daitoryu.cz/zavod/21884/
LOCATION:Teplice\, U PANORAMY 2959\, Teplice\, Ústecký\, 41501\, Czech Republic
END:VEVENT
BEGIN:VEVENT
DTSTART;VALUE=DATE:20260502
DTEND;VALUE=DATE:20260504
DTSTAMP:20260421T001728
CREATED:20260326T105801Z
LAST-MODIFIED:20260326T113444Z
UID:21950-1777680000-1777852799@daitoryu.cz
SUMMARY:Český pohár Nový Bydžov – kategorie U14\, U16 a U18 - 2. a 3. 5. 2026
DESCRIPTION:Během víkendu 2. 5. a 3. 5.  2026 se uskuteční judo závody Českého poháru v Novém Bydžově určené pro kategorie U14\, U16 a U18 – chlapce i dívky s účastí klubu. \nNa tuto akci byli nominováni pouze vybraní závodníci\, kteří dlouhodobě vykazují vynikající výsledky\, nasazení v tréninku a reprezentují klub na vysoké úrovni. Děkujeme. \n\n\n\nČeský pohár Nový Bydžov – kategorie U14\, U16 a U18 \n\n\n\nStartující ročníky: \nU14 – ročníky nyrození 2013 – 2014\nU16 – ročníky narození 2011–2012\nU18 – ročníky narození 2009–2010 \n\n\n\nMísto konání:\nZimní stadion\, Dukelská třída\, 504 01 Nový Bydžov \nHarmonogram závodů – sobota 2. 5. 2026: \n9:00–9:30 – prezentace a vážení kategorie U14 a U18\n(bez možnosti změny nahlášené váhové kategorie) \n10:00 – zahájení soutěže U14 \npoté zahájení 18 \nneděle 3.5.2026 \n9:00–9:30 – prezentace a vážení kategorie u16\n(bez možnosti změny nahlášené váhové kategorie) \n10:00 – zahájení soutěže kategorie U16 \nrozpis soutěže  Český pohár Nový Bydžov 2026
URL:https://daitoryu.cz/zavod/cesky-pohar-novy-bydzov-kategorie-u14-u16-a-u18-2-a-3-5-2026/
CATEGORIES:Závody
END:VEVENT
BEGIN:VEVENT
DTSTART;VALUE=DATE:20260523
DTEND;VALUE=DATE:20260524
DTSTAMP:20260421T001728
CREATED:20260326T110126Z
LAST-MODIFIED:20260326T110149Z
UID:21952-1779494400-1779580799@daitoryu.cz
SUMMARY:Český pohár - VELKÁ CENA JABLONCE – Jablonec Judo Cup - 23. 5. 2026
DESCRIPTION:Vážení rodiče\, \nrádi bychom Vás pozvali na judo turnaj VELKÁ CENA JABLONCE – Jablonec Judo Cup\, který je součástí série Českého poháru a zároveň kvalifikačním turnajem na MČR mužů a žen. \n📅 Termín: sobota 23. 5. 2026\n📍 Místo: Městská hala\, U Přehrady 20\, Jablonec nad Nisou \nPRO NOMINOVANÉ \nNa turnaji se očekává účast závodníků z celé České republiky i ze zahraničí (celá Evropa). Soutěž proběhne na 7 tatami. \n\n\n\nKategorie: \nU16 (mladší dorost) – ročníky 2011–2012\nU18 (dorost) – ročníky 2009–2010\nMuži a ženy – ročníky 2008 a starší \n(Závodí se dle váhových kategorií dle oficiálního rozpisu) \n\n\n\nStartovné: 600 Kč \nZávodníci startují na vlastní náklady. \n\n\n\nČasový harmonogram: \nPátek 22. 5. 2026\n19:00–20:00 – prezentace a vážení (možnost předvážení)\n22:00 – losování \nSobota 23. 5. 2026 \n8:00–9:00 – vážení U16\, U18\, muži a ženy\n(bez možnosti změny nahlášené váhové kategorie) \n10:00 – zahájení soutěže (U16\, muži a ženy) \n12:00–12:30 – vážení U18 (kontrolní) \nZahájení soutěže U18 proběhne v návaznosti na průběh turnaje \n\n\n\nPřihlášení: \nPřihlášky probíhají elektronicky přes centrální evidenci ČSJu:\n👉 od 18. 5. 2026\n👉 do 20. 5. 2026 do 23:00 hodin \n❗ Nepřihlášení závodníci nemohou startovat. \nStartovné je nutné uhradit předem za celý klub. \n\n\n\nVíce informací naleznete na:\nwww.jablonecjudocup.cz \n\n\n\nTěšíme se na účast a přejeme hodně sportovních úspěchů!
URL:https://daitoryu.cz/zavod/cesky-pohar-velka-cena-jablonce-jablonec-judo-cup-23-5-2026/
CATEGORIES:Závody
END:VEVENT
BEGIN:VEVENT
DTSTART;VALUE=DATE:20260530
DTEND;VALUE=DATE:20260531
DTSTAMP:20260421T001728
CREATED:20260326T111035Z
LAST-MODIFIED:20260326T114009Z
UID:21956-1780099200-1780185599@daitoryu.cz
SUMMARY:VELKÁ CENA PARDUBIC - 30. 5. 2026
DESCRIPTION:Vážení rodiče\, \nzveme všechny judisty a judistky na závody 30. 5. 2026\, kdy se koná VELKÁ CENA PARDUBIC. Jedná se o závody\, které jsou pro závodní skupiny povinné svou účastí. Zároveň jde o jedny z nejbližších a nejprestižnějších turnajů přímo v Pardubicích. \nZávodŮ se tradičně účastní velký počet závodníků s výbornými výsledky. Na závody zveme i mladší judisty z přípravek – jedná se o ideální příležitost zazávodit si „doma“ a zároveň skvělá možnost pro rodiče vidět své děti přímo na tatami. \n\n\n\nStartující (ročníky): \nU10 (mláďata): 2017–2018\nU12 (mladší žactvo): 2015–2016\nU14 (starší žactvo): 2013–2014\nU16 (mladší dorost): 2011–2012\nU18 (dorost): 2009–2010\nU23 (junioři): 2006 a mladší \n\n\n\nPropozice: \n📍 Kde: Sportovní hala Univerzity Pardubice\, Kunětická 92\, Pardubice \n💰 Startovné: 350 Kč \n\n\n\nČasový harmonogram (sobota 30. 5.): \n8:00 – 9:00 zápis a vážení U10\, U12\, U14\n9:00 – 10:00 losování \n10:00 zahájení soutěže U10\, U12 a U14 \n12:00 – 13:00 zápis a vážení U16\, U18 a U23 \n14:15 zahájení soutěže U16\, u18\, u23 \n\n\n\nVíce informací naleznete v příloze.  –  VC Pardubic o perníkovou medaili U10 – Senioři 2026 \nDoufáme ve velkou účast – blízkost těchto závodů k tomu přímo vybízí. Budeme rádi\, když dorazíte i jako doprovod a podpora svých dětí. \nTěšíme se na vás! \nS pozdravem\nJiří Krejčí
URL:https://daitoryu.cz/zavod/velka-cena-pardubic-30-5-2026/
CATEGORIES:Závody
END:VEVENT
BEGIN:VEVENT
DTSTART;VALUE=DATE:20260613
DTEND;VALUE=DATE:20260614
DTSTAMP:20260421T001728
CREATED:20260326T111601Z
LAST-MODIFIED:20260326T111601Z
UID:21958-1781308800-1781395199@daitoryu.cz
SUMMARY:VC Sokol Hradec Králové - 13. 6. 2026
DESCRIPTION:Vážení rodiče\, \nrádi bychom Vás pozvali na judo závody Velká cena Sokola Hradec Králové\, které jsou určeny pro mladší kategorie závodníků. \n📅 Termín: 13.6. 2026\n📍 Místo: Hradec Králové \nZávody jsou vhodné jak pro zkušenější závodníky\, tak i pro děti z přípravek\, které si chtějí vyzkoušet atmosféru soutěže. \n\n\n\nKategorie: \nU10 (mláďata)\nU12 (mladší žactvo)\nU14 (starší žactvo) \n(Závodí se dle věku a váhových kategorií dle rozpisu pořadatele) \n\n\n\nStartovné: (350 Kč) \n\n\n\nČasový harmonogram: \n8:00 – 9:00 prezentace a vážení U10\, U12\, U14\n10:00 zahájení soutěže \nVíce informací naleznete v přiloženém rozpisu. eVC Sokol Hradec Králové – U 10\, 12\, 14 \nBudeme rádi za co největší účast – tyto závody jsou skvělou příležitostí získat první zkušenosti i závodní praxi. Rodiče a doprovod jsou srdečně vítáni. \nTěšíme se na Vás! \nS pozdravem\nJiří Krejčí
URL:https://daitoryu.cz/zavod/vc-sokol-hradec-kralove-13-6-2026/
CATEGORIES:Závody
END:VEVENT
BEGIN:VEVENT
DTSTART;VALUE=DATE:20260713
DTEND;VALUE=DATE:20260718
DTSTAMP:20260421T001728
CREATED:20260326T112207Z
LAST-MODIFIED:20260326T112207Z
UID:21964-1783900800-1784332799@daitoryu.cz
SUMMARY:Hasičský tábor 13. - 17. 7. 2026 v Dolanech
DESCRIPTION:Tábory jsou určeny pro děti od 3 – 12 – ti let. \n\n 7. – 17. 7. 2026 – Hasičský příměstský tábor\n\nProgram: Děti si vyzkouší několik hasičských disciplín\, soutěže\, ukázka hasičské techniky mladými hasiči\, návštěva hasičského záchranného sboru Lázně Bohdaneč\, zdravověda – návštěva z Červeného kříže\, děti si vyzkouší 1. pomoc (popáleniny\, odřeniny\, resuscitaci…)\, ukázka výcviku záchranářských psů\, canisterapie\, hasičská olympiáda a mnoho dalších. \nV případě\, že budete dítě přihlašovat pouze na některý ze dnů\, vypište prosím jednotlivě  \nCena: 2 900 Kč\, celý turnus (pondělí – pátek) nebo 580\,- Kč / den\, od 7.45 – 16.15 hod.  \nCena zahrnuje: Svačina\, oběd (polévka\, hlavní chod)\, svačina\, celodenní pitný režim \nPestrý program s nejen hasičskou tématikou\, ukázky záchranářských psů\, použití hasičského vybavení\, ukázky hasičské techniky\, soutěže\, hry\, exkurze v nejbližším okolí\, ukázky první pomoci a na konci tábora předání medailí. \n  \nForma úhrady: \nPřevodem na účet 2701184139/2010 (VS = RČ dítěte\, zpráva pro příjemce = PT jméno příjmení dítěte) \n  \nPřihlášku + zálohu zasílejte do 30. 4. 2026.  \nPŘIHLAŠKY ZASÍLEJTE NA email: daitoryupardubice@seznam.cz \nTábor je kapacitně omezen. \n  \nPřihláška se považuje za závaznou po uhrazení zálohy 1500 Kč \nDoplatek uhraďte do 20.6.2026 \nPřípadné možné změny: \nV případě nízkého počtu účastníků (do 10 dětí)\, bude tábor zrušen a peníze Vám budou vráceny.
URL:https://daitoryu.cz/zavod/hasicsky-tabor-13-17-7-2026-v-dolanech/
END:VEVENT
BEGIN:VEVENT
DTSTART;VALUE=DATE:20260726
DTEND;VALUE=DATE:20260731
DTSTAMP:20260421T001728
CREATED:20260204T091707Z
LAST-MODIFIED:20260204T091707Z
UID:21887-1785024000-1785455999@daitoryu.cz
SUMMARY:SPS soustředění Teplice 26. 7. - 30. 7. 2026
DESCRIPTION:Nominace závodníků pro každou akci SPS bude odeslána svazem vybraným závodníkům. \nDěkujeme za potvrzení účasti
URL:https://daitoryu.cz/zavod/sps-soustredeni-teplice-26-7-30-7-2026/
LOCATION:Teplice\, U PANORAMY 2959\, Teplice\, Ústecký\, 41501\, Czech Republic
CATEGORIES:Závody
END:VEVENT
BEGIN:VEVENT
DTSTART;VALUE=DATE:20260808
DTEND;VALUE=DATE:20260816
DTSTAMP:20260421T001728
CREATED:20260326T111946Z
LAST-MODIFIED:20260326T113807Z
UID:21962-1786147200-1786838399@daitoryu.cz
SUMMARY:LETNÍ POBYTOVÝ TÁBOR - 8. - 15. 8. 2026
DESCRIPTION:Místo konání:               Studenec \nwww.sokolstudenec.cz \nCena:       6 400\,- Kč\, \nDoprava: vlastní \nPŘIHLÁŠKA \nPřihlášku podejte nejlépe do 31. května 2026\, osobně nebo oskenovanou emailem zašlete na daitoryupardubice@seznam.cz. \nPřihláška se považuje za závaznou po uhrazení zálohy. \nProsíme o úhradu zálohy do 31. 5. 2026 v částce 3000 Kč. \nDoplatek uhraďte do 30. 6. 2026. \nCena zahrnuje: \n\npéči profesionálních trenérů\nubytování v budově v samostatných pokojích s různým počtem lůžek\nstrava 5 x denně\, pitný režim po celý den\, snídaně formou švédských stolů\n2x denně tréninky na tatami\, včetně posilování\, street workout hřiště\, parkour\nsportovní aktivity\, fotbal\, táborové hry\, soutěže\, večerní projektové promítání\ntenisový kurt\, ping pong\, stolní fotbal\, opékání buřtů\nmožnost zkoušek na vyšší pás\ndoučování techniky s trenéry\no průběhu tábora Vás budeme informovat pomocí našeho Facebooku: Daitoryu škola bojových umění\ninformace ke stravě: Pokud si bude někdo přát bezlepkovou stravu\, bezmasou atd.\, nechť toto uvede do přihlášky.\nV den odjezdu nezapomeňte odevzdat posudek o zdravotní způsobilosti a také potvrzení o bezinfekčnosti.\nV ceně tábora není zahrnuto individuální úrazové pojištění. Individuální pojištění účastníků je na zvážení rodičů.\n\nKontaktní osoby\, které budou přítomny po celou dobu soustředění: \nMgr. Martin Šaroch\, tel: 775 110 772 \nMgr. Marcel Šaroch\, tel: 775 110 773
URL:https://daitoryu.cz/zavod/letni-pobytovy-tabor-8-15-8-2026/
END:VEVENT
BEGIN:VEVENT
DTSTART;VALUE=DATE:20260816
DTEND;VALUE=DATE:20260823
DTSTAMP:20260421T001728
CREATED:20260326T115856Z
LAST-MODIFIED:20260326T115856Z
UID:21978-1786838400-1787443199@daitoryu.cz
SUMMARY:SPS soustředění Teplice 16. 8. – 22. 8. 2026
DESCRIPTION:16 srpna – 22. 8. srpna\n\n\n\nNominace závodníků pro každou akci SPS bude odeslána svazem vybraným závodníkům. \nDěkujeme za potvrzení účasti
URL:https://daitoryu.cz/zavod/sps-soustredeni-teplice-16-8-22-8-2026/
END:VEVENT
BEGIN:VEVENT
DTSTART;VALUE=DATE:20260823
DTEND;VALUE=DATE:20260830
DTSTAMP:20260421T001728
CREATED:20260326T114400Z
LAST-MODIFIED:20260326T114413Z
UID:21975-1787443200-1788047999@daitoryu.cz
SUMMARY:KRAJSKÉ SOUSTŘEDĚNÍ Teplice - 23. 8. - 29. 8. 2025
DESCRIPTION:Vážení rodiče a přátelé juda\, \ni letos proběhne tradiční společné judo soustředění všech klubů Pardubického kraje\, kdy náš klub rád opět zúčastní. Na konci tohoto léta se rádi s Vámi setkáme na letním judo soustředění v Teplicích 2026. \nLetní krajský tábor – soustředění proběhne v termínu: \nNeděle 23.8. – Sobota 29.8. 2026 \nHotel Panorama Teplice: \nhttps://hotel-panorama-856.hotel.cz/ (fotky ke shlédnutí)\n \nDoprava na tábor společně autobusem přímo z Pardubic. Informace o dopravě budeme upřesňovat v průběhu prázdnin. \nPotvrzení účasti odešlete na náš email: daitoryupardubice@seznam.cz \nProsíme o zaslání potvrzení účasti do 22.7.2026. Děkujeme \nProgram judo soustředění je nejen zdokonalování tělesné kondice a judo technik před zahájením judistické sezóny a další sportovní hry\, ale součástí soustředění jsou i výlety do města a mnoho dalších aktiv. Trenérský tým tvoří trenéři klubu + ostatní trenéři z jiných klubů.\nSoustředění bez elektroniky! Děkujeme\, že respektujete doporučení pořadatele. \n\nS přáním hezkého dne\nBc. Jiří Krejčí
URL:https://daitoryu.cz/zavod/krajske-soustredeni-teplice-23-8-29-8-2025/
END:VEVENT
END:VCALENDAR