BEGIN:VCALENDAR
VERSION:2.0
PRODID:-//Daito Ryu - ECPv6.14.2//NONSGML v1.0//EN
CALSCALE:GREGORIAN
METHOD:PUBLISH
X-WR-CALNAME:Daito Ryu
X-ORIGINAL-URL:https://daitoryu.cz
X-WR-CALDESC:Akce na Daito Ryu
REFRESH-INTERVAL;VALUE=DURATION:PT1H
X-Robots-Tag:noindex
X-PUBLISHED-TTL:PT1H
BEGIN:VTIMEZONE
TZID:UTC
BEGIN:STANDARD
TZOFFSETFROM:+0000
TZOFFSETTO:+0000
TZNAME:UTC
DTSTART:20250101T000000
END:STANDARD
END:VTIMEZONE
BEGIN:VEVENT
DTSTART;VALUE=DATE:20251115
DTEND;VALUE=DATE:20251116
DTSTAMP:20260421T032840
CREATED:20250926T200739Z
LAST-MODIFIED:20250926T200739Z
UID:21742-1763164800-1763251199@daitoryu.cz
SUMMARY:PČR v Teplicích 15.11.
DESCRIPTION:PČR staršího žactva 2025 \nDatum konání \n15. 11. 2025\, 8:00h – 20:00h \nMísto konání \nTeplice \n  \nAdresa \nNa Stínadlech 3280 \nTeplice \n41501 \nPořadatel \nSportovní klub PRO SPORT Teplice
URL:https://daitoryu.cz/zavod/prebor-ceske-republiky/
LOCATION:Teplice\, U PANORAMY 2959\, Teplice\, Ústecký\, 41501\, Czech Republic
CATEGORIES:Závody
END:VEVENT
BEGIN:VEVENT
DTSTART;VALUE=DATE:20251018
DTEND;VALUE=DATE:20251019
DTSTAMP:20260421T032840
CREATED:20250926T195638Z
LAST-MODIFIED:20250926T195638Z
UID:21737-1760745600-1760831999@daitoryu.cz
SUMMARY:MČR juniorů a juniorek
DESCRIPTION:MČR juniorů a juniorek \nDatum konání \n18. 10. 2025\, 8:00h – 20:00h \nMísto konání \nMladá Boleslav \nUkončení přihlašování do 13.10. na email klubu \nAdresa \nMěstská sportovní hala\, U Stadionu 1322 \nMladá Boleslav \n293 01
URL:https://daitoryu.cz/zavod/mcr-junioru-a-juniorek/
LOCATION:Mladá Boleslav\, Mladá Boleslav
CATEGORIES:Závody
END:VEVENT
BEGIN:VEVENT
DTSTART;VALUE=DATE:20251004
DTEND;VALUE=DATE:20251005
DTSTAMP:20260421T032840
CREATED:20250923T194633Z
LAST-MODIFIED:20250926T194925Z
UID:21731-1759536000-1759622399@daitoryu.cz
SUMMARY:Mezinárodní závody v Považské Bystrici (Slovensko) pro kategorie U13\, U15\, U18 a U21. Víc
DESCRIPTION:V sobotu 4. 10. 2025 se konají mezinárodní závody v Považské Bystrici (Slovensko) pro kategorie U13\, U15\, U18 a U21. Více informací o závodech naleznete v příloze. Odjezd by byl v pátek 3. 10.2025 v 13:00 hodin od SG Pardubice klubovou dopravou. Návrat v sobotu 4. 10. po turnaji cca v 23:30 hodin\, záleží\, kdy turnaj skončí. Ubytování z pátku na sobotu bude zajištěno v KMK penzion cca 20 min od sportovní haly. \n  \núčast Nominace potvrdit do neděle 28.9.2025 do 12:00 hodin včetně náhradníků
URL:https://daitoryu.cz/zavod/mezinarodni-zavody-v-povazske-bystrici-slovensko-pro-kategorie-u13-u15-u18-a-u21-vic/
LOCATION:Slovensko\, Považské Bystrici\, Slovakia (Slovak Republic)
CATEGORIES:Závody
END:VEVENT
BEGIN:VEVENT
DTSTART;VALUE=DATE:20250920
DTEND;VALUE=DATE:20250921
DTSTAMP:20260421T032840
CREATED:20250827T084120Z
LAST-MODIFIED:20250827T084120Z
UID:21654-1758326400-1758412799@daitoryu.cz
SUMMARY:Krajský přebor U12+U14+U16 Pardubického kraje
DESCRIPTION:Krajský přebor U12+U14+U16 Pardubického kraje \npro všechny naše členy a členky\, 6/5 bíložlutý a rok evidence v klubu \nH-Centrum\, Staré Hradiště 197\, 533 52\, Pardubice \nodkaz na propozice: ZDE
URL:https://daitoryu.cz/zavod/krajsky-prebor-u12u14u16-pardubickeho-kraje/
CATEGORIES:Závody
END:VEVENT
BEGIN:VEVENT
DTSTART;VALUE=DATE:20250906
DTEND;VALUE=DATE:20250908
DTSTAMP:20260421T032840
CREATED:20250815T114515Z
LAST-MODIFIED:20250815T114516Z
UID:21625-1757116800-1757289599@daitoryu.cz
SUMMARY:MIZUNO CUP -ČP Brno 6. a 7. září
DESCRIPTION:Mizuno CUP pro nominované z vyšších kat. \npotvrdit do 1.9. \nodkaz na závody : MIZUNO CUP \n 
URL:https://daitoryu.cz/zavod/mizuno-cup-cp-brno-6-a-7-zari/
LOCATION:brno\, Vodova 336/108\, Brno\, 61200\, Czech Republic
CATEGORIES:Závody
END:VEVENT
BEGIN:VEVENT
DTSTART;TZID=UTC:20250824T080000
DTEND;TZID=UTC:20250830T170000
DTSTAMP:20260421T032840
CREATED:20250827T084237Z
LAST-MODIFIED:20250827T084248Z
UID:21659-1756022400-1756573200@daitoryu.cz
SUMMARY:Soustředění v Teplicích
DESCRIPTION:Soustředění v Teplicích pro členy závodních skupin klubu.
URL:https://daitoryu.cz/zavod/soustredeni-v-teplicich/
CATEGORIES:Závody
END:VEVENT
BEGIN:VEVENT
DTSTART;TZID=UTC:20250816T110000
DTEND;TZID=UTC:20250822T170000
DTSTAMP:20260421T032840
CREATED:20250815T120521Z
LAST-MODIFIED:20250815T120725Z
UID:21629-1755342000-1755882000@daitoryu.cz
SUMMARY:SPS soustředění Teplice
DESCRIPTION:SPS 16.8. – 22.8. pouze pro nominované svazem \nAKCI pořádá ČSJu. Kontaktní osoba: Karel Gregar \nInformace k akci – zaslány nominovaným \nhotel: PANORAMA \n 
URL:https://daitoryu.cz/zavod/sps-soustredeni-teplice/
LOCATION:Teplice\, U PANORAMY 2959\, Teplice\, Ústecký\, 41501\, Czech Republic
END:VEVENT
END:VCALENDAR